BEGIN:VCALENDAR
VERSION:2.0
PRODID:-//Belmont Baptist Church, Charlottesville, Virginia - ECPv6.15.1.1//NONSGML v1.0//EN
CALSCALE:GREGORIAN
METHOD:PUBLISH
X-WR-CALNAME:Belmont Baptist Church, Charlottesville, Virginia
X-ORIGINAL-URL:https://belmontbaptistcville.org
X-WR-CALDESC:Events for Belmont Baptist Church, Charlottesville, Virginia
REFRESH-INTERVAL;VALUE=DURATION:PT1H
X-Robots-Tag:noindex
X-PUBLISHED-TTL:PT1H
BEGIN:VTIMEZONE
TZID:America/Halifax
BEGIN:DAYLIGHT
TZOFFSETFROM:-0400
TZOFFSETTO:-0300
TZNAME:ADT
DTSTART:20180311T060000
END:DAYLIGHT
BEGIN:STANDARD
TZOFFSETFROM:-0300
TZOFFSETTO:-0400
TZNAME:AST
DTSTART:20181104T050000
END:STANDARD
END:VTIMEZONE
BEGIN:VEVENT
DTSTART;VALUE=DATE:20181201
DTEND;VALUE=DATE:20181208
DTSTAMP:20260425T124338
CREATED:20181103T225233Z
LAST-MODIFIED:20181114T221029Z
UID:1653-1543622400-1544227199@belmontbaptistcville.org
SUMMARY:PACEM at BBC Hosted by BBC
DESCRIPTION:Belmont Baptist Church is hosting PACEM December 1st through December 7th.
URL:https://belmontbaptistcville.org/event/pacem-bbc
END:VEVENT
BEGIN:VEVENT
DTSTART;VALUE=DATE:20181124
DTEND;VALUE=DATE:20181201
DTSTAMP:20260425T124338
CREATED:20181103T224517Z
LAST-MODIFIED:20181114T220211Z
UID:1649-1543017600-1543622399@belmontbaptistcville.org
SUMMARY:PACEM @ BBC Hosted by All Souls Church
DESCRIPTION:All Souls host PACEM at our Church November 24th through November 30th.
URL:https://belmontbaptistcville.org/event/pacem
END:VEVENT
BEGIN:VEVENT
DTSTART;TZID=America/Halifax:20181122T090000
DTEND;TZID=America/Halifax:20181122T110000
DTSTAMP:20260425T124338
CREATED:20181103T223152Z
LAST-MODIFIED:20181103T231226Z
UID:1637-1542877200-1542884400@belmontbaptistcville.org
SUMMARY:Thanksgiving Breakfast at Parkview
DESCRIPTION:Thanksgiving Breakfast at Parkview…Come enjoy this beautiful time of fellowship and thanksgiving ! \n 
URL:https://belmontbaptistcville.org/event/thanksgiving-breakfast-at-parkview
LOCATION:Parkview
END:VEVENT
BEGIN:VEVENT
DTSTART;TZID=America/Halifax:20181118T110000
DTEND;TZID=America/Halifax:20181118T120000
DTSTAMP:20260425T124338
CREATED:20181114T214812Z
LAST-MODIFIED:20181115T160752Z
UID:1733-1542538800-1542542400@belmontbaptistcville.org
SUMMARY:Special Music @ 11:00 AM - Charlie Frazier & Johnny Hensley
DESCRIPTION:Both Charlie and Johnny are local bluegrass performers.  Charlie has played with Alvin Breeden and the Virginia Cutups and now is with a band called The Virginia Ramblers\, and he has won many awards for his bluegrass music.
URL:https://belmontbaptistcville.org/event/special-music-1100-am-charlie
END:VEVENT
BEGIN:VEVENT
DTSTART;TZID=America/Halifax:20181118T093000
DTEND;TZID=America/Halifax:20181118T113000
DTSTAMP:20260425T124338
CREATED:20181115T152911Z
LAST-MODIFIED:20181115T153834Z
UID:1744-1542533400-1542540600@belmontbaptistcville.org
SUMMARY:Sunday Morning Bible Study and Worship Service
DESCRIPTION:Sunday School for all age groups begins at 9:30 am through 10:30 am each Sunday. \nOur Traditional Worship Service begins at 11:00 am each Sunday.
URL:https://belmontbaptistcville.org/event/sunday-school-bible-study
END:VEVENT
BEGIN:VEVENT
DTSTART;TZID=America/Halifax:20181027T110000
DTEND;TZID=America/Halifax:20181027T123000
DTSTAMP:20260425T124338
CREATED:20181103T235431Z
LAST-MODIFIED:20181104T220149Z
UID:1672-1540638000-1540643400@belmontbaptistcville.org
SUMMARY:Children Singing at Local Nursing Home
DESCRIPTION:  \n  \n  \n \n \n  \n  \n  \n  \n  \n  \n  \n  \nChildren singing at local nursing home. \n 
URL:https://belmontbaptistcville.org/event/children-singing-at-nursing-home
END:VEVENT
END:VCALENDAR