BEGIN:VCALENDAR
VERSION:2.0
PRODID:-//Belmont Baptist Church, Charlottesville, Virginia - ECPv6.15.1.1//NONSGML v1.0//EN
CALSCALE:GREGORIAN
METHOD:PUBLISH
X-ORIGINAL-URL:https://belmontbaptistcville.org
X-WR-CALDESC:Events for Belmont Baptist Church, Charlottesville, Virginia
REFRESH-INTERVAL;VALUE=DURATION:PT1H
X-Robots-Tag:noindex
X-PUBLISHED-TTL:PT1H
BEGIN:VTIMEZONE
TZID:America/Halifax
BEGIN:DAYLIGHT
TZOFFSETFROM:-0400
TZOFFSETTO:-0300
TZNAME:ADT
DTSTART:20250309T060000
END:DAYLIGHT
BEGIN:STANDARD
TZOFFSETFROM:-0300
TZOFFSETTO:-0400
TZNAME:AST
DTSTART:20251102T050000
END:STANDARD
BEGIN:DAYLIGHT
TZOFFSETFROM:-0400
TZOFFSETTO:-0300
TZNAME:ADT
DTSTART:20260308T060000
END:DAYLIGHT
BEGIN:STANDARD
TZOFFSETFROM:-0300
TZOFFSETTO:-0400
TZNAME:AST
DTSTART:20261101T050000
END:STANDARD
END:VTIMEZONE
BEGIN:VEVENT
DTSTART;TZID=America/Halifax:20251224T180000
DTEND;TZID=America/Halifax:20251224T190000
DTSTAMP:20260425T095448
CREATED:20251222T160141Z
LAST-MODIFIED:20251222T160237Z
UID:2842-1766599200-1766602800@belmontbaptistcville.org
SUMMARY:Christmas Eve Service
DESCRIPTION:There will be a Christmas Eve worship service at 6pm\, which is a great time to celebrate the birth of Jesus. There will be scripture readings\, carols\, and candlelight. We will also celebrate the Lord’s table together.
URL:https://belmontbaptistcville.org/event/christmas-eve-service
END:VEVENT
BEGIN:VEVENT
DTSTART;TZID=America/Halifax:20260405T070000
DTEND;TZID=America/Halifax:20260405T120000
DTSTAMP:20260425T095448
CREATED:20260319T132405Z
LAST-MODIFIED:20260319T132405Z
UID:2941-1775372400-1775390400@belmontbaptistcville.org
SUMMARY:EASTER!!
DESCRIPTION:Come celebrate our Risen Savior with us at Belmont. There will be a Sunrise service in Belmont Park at 7:00am- bring a chair. After\, there will be breakfast and a time of fellowship at Belmont Baptist Church before Sunday School at 9:30 and Worship at 11:00.
URL:https://belmontbaptistcville.org/event/easter
END:VEVENT
END:VCALENDAR